BEGIN:VCALENDAR
VERSION:2.0
PRODID:-//ČMSZP - ECPv4.9.14.1//NONSGML v1.0//EN
CALSCALE:GREGORIAN
METHOD:PUBLISH
X-WR-CALNAME:ČMSZP
X-ORIGINAL-URL:https://cmszp.cz
X-WR-CALDESC:Events for ČMSZP
BEGIN:VTIMEZONE
TZID:Europe/Prague
BEGIN:DAYLIGHT
TZOFFSETFROM:+0100
TZOFFSETTO:+0200
TZNAME:CEST
DTSTART:20240331T010000
END:DAYLIGHT
BEGIN:STANDARD
TZOFFSETFROM:+0200
TZOFFSETTO:+0100
TZNAME:CET
DTSTART:20241027T010000
END:STANDARD
END:VTIMEZONE
BEGIN:VEVENT
DTSTART;VALUE=DATE:20241206
DTEND;VALUE=DATE:20241208
DTSTAMP:20260424T163414
CREATED:20240925T065022Z
LAST-MODIFIED:20240925T065022Z
UID:11785-1733450400-1733536799@cmszp.cz
SUMMARY:Školení LPIS
DESCRIPTION:
URL:https://cmszp.cz/akce/skoleni-lpis/
END:VEVENT
BEGIN:VEVENT
DTSTART;VALUE=DATE:20241206
DTEND;VALUE=DATE:20241208
DTSTAMP:20260424T163414
CREATED:20241031T114405Z
LAST-MODIFIED:20241031T114405Z
UID:11994-1733450400-1733536799@cmszp.cz
SUMMARY:TPS JČU
DESCRIPTION:
URL:https://cmszp.cz/akce/tps-jcu/
END:VEVENT
BEGIN:VEVENT
DTSTART;TZID=Europe/Prague:20241206T080000
DTEND;TZID=Europe/Prague:20241206T170000
DTSTAMP:20260424T163414
CREATED:20241104T200243Z
LAST-MODIFIED:20241104T200243Z
UID:12007-1733472000-1733504400@cmszp.cz
SUMMARY:Koordinačního výboru Celostátní sítě pro venkov (CSV)
DESCRIPTION:6. prosince 2024 od 10:00 hod. v sále č. 400 Ministerstva zemědělství. \n
URL:https://cmszp.cz/akce/koordinacniho-vyboru-celostatni-site-pro-venkov-csv/
END:VEVENT
END:VCALENDAR