BEGIN:VCALENDAR
VERSION:2.0
PRODID:-//ČMSZP - ECPv4.9.14.1//NONSGML v1.0//EN
CALSCALE:GREGORIAN
METHOD:PUBLISH
X-WR-CALNAME:ČMSZP
X-ORIGINAL-URL:https://cmszp.cz
X-WR-CALDESC:Events for ČMSZP
BEGIN:VTIMEZONE
TZID:Europe/Prague
BEGIN:DAYLIGHT
TZOFFSETFROM:+0100
TZOFFSETTO:+0200
TZNAME:CEST
DTSTART:20240331T010000
END:DAYLIGHT
BEGIN:STANDARD
TZOFFSETFROM:+0200
TZOFFSETTO:+0100
TZNAME:CET
DTSTART:20241027T010000
END:STANDARD
END:VTIMEZONE
BEGIN:VEVENT
DTSTART;VALUE=DATE:20240513
DTEND;VALUE=DATE:20240517
DTSTAMP:20260426T031209
CREATED:20240417T121032Z
LAST-MODIFIED:20240417T121032Z
UID:10930-1715565600-1715824799@cmszp.cz
SUMMARY:Valná hromada ELO
DESCRIPTION:
URL:https://cmszp.cz/akce/valna-hromada-elo/
END:VEVENT
END:VCALENDAR