BEGIN:VCALENDAR
VERSION:2.0
PRODID:-//ČMSZP - ECPv4.9.14.1//NONSGML v1.0//EN
CALSCALE:GREGORIAN
METHOD:PUBLISH
X-WR-CALNAME:ČMSZP
X-ORIGINAL-URL:https://cmszp.cz
X-WR-CALDESC:Events for ČMSZP
BEGIN:VTIMEZONE
TZID:Europe/Prague
BEGIN:DAYLIGHT
TZOFFSETFROM:+0100
TZOFFSETTO:+0200
TZNAME:CEST
DTSTART:20230326T010000
END:DAYLIGHT
BEGIN:STANDARD
TZOFFSETFROM:+0200
TZOFFSETTO:+0100
TZNAME:CET
DTSTART:20231029T010000
END:STANDARD
END:VTIMEZONE
BEGIN:VEVENT
DTSTART;TZID=Europe/Prague:20231010T093000
DTEND;TZID=Europe/Prague:20231010T170000
DTSTAMP:20260422T013841
CREATED:20230922T190020Z
LAST-MODIFIED:20230922T190020Z
UID:9737-1696930200-1696957200@cmszp.cz
SUMMARY:Monitorovacího výboru SP SZP\, Intervence 55.78 Podpora vzdělávání.
DESCRIPTION:\nJednání se uskuteční dne 10. 10. 2023 v budově Ministerstva zemědělství v místnosti 101 od 9:30. \n
URL:https://cmszp.cz/akce/monitorovaciho-vyboru-sp-szp-intervence-55-78-podpora-vzdelavani/
END:VEVENT
BEGIN:VEVENT
DTSTART;TZID=Europe/Prague:20231010T093000
DTEND;TZID=Europe/Prague:20231010T170000
DTSTAMP:20260422T013841
CREATED:20231002T164342Z
LAST-MODIFIED:20231002T164342Z
UID:9804-1696930200-1696957200@cmszp.cz
SUMMARY:Jednání pracovní skupiny Monitorovacího výboru SP SZP\, Intervence 55.78 Podpora vzdělávání
DESCRIPTION:jednání pracovní skupiny Monitorovacího výboru SP SZP\, Intervence 55.78 Podpora vzdělávání. \nJednání se uskuteční dne 10. 10. 2023 v budově Ministerstva zemědělství v místnosti 101 od 9:30. \n
URL:https://cmszp.cz/akce/jednani-pracovni-skupiny-monitorovaciho-vyboru-sp-szp-intervence-55-78-podpora-vzdelavani/
END:VEVENT
END:VCALENDAR