BEGIN:VCALENDAR
VERSION:2.0
PRODID:-//ČMSZP - ECPv4.9.14.1//NONSGML v1.0//EN
CALSCALE:GREGORIAN
METHOD:PUBLISH
X-WR-CALNAME:ČMSZP
X-ORIGINAL-URL:https://cmszp.cz
X-WR-CALDESC:Events for ČMSZP
BEGIN:VTIMEZONE
TZID:Europe/Prague
BEGIN:DAYLIGHT
TZOFFSETFROM:+0100
TZOFFSETTO:+0200
TZNAME:CEST
DTSTART:20180325T010000
END:DAYLIGHT
BEGIN:STANDARD
TZOFFSETFROM:+0200
TZOFFSETTO:+0100
TZNAME:CET
DTSTART:20181028T010000
END:STANDARD
END:VTIMEZONE
BEGIN:VEVENT
DTSTART;TZID=Europe/Prague:20180320T080000
DTEND;TZID=Europe/Prague:20180320T170000
DTSTAMP:20260422T051611
CREATED:20180228T211853Z
LAST-MODIFIED:20180228T212123Z
UID:2468-1521532800-1521565200@cmszp.cz
SUMMARY:workshop   „MEZIGENERAČNÍ VÝMĚNA ZKUŠENOSTÍ V AGRÁRNÍM SEKTORU“
DESCRIPTION:Pozvánka \nMinisterstvo zemědělství si Vás v rámci aktivit Celostátní sítě pro venkov a ve spolupráci s Českomoravským svazem zemědělských podnikatelů dovoluje pozvat na workshop \n „MEZIGENERAČNÍ VÝMĚNA ZKUŠENOSTÍ V AGRÁRNÍM SEKTORU“ \nAkce je zaměřena především na mladé začínající zemědělské podnikatele\, kteří budou mít možnost získat inspiraci pro své podnikatelské aktivity a vyměnit si zkušenosti se zástupci úspěšných podnikatelů a žadatelů z Programu rozvoje venkova. \nMísto konání:        Budova Gymnázia\, střední odborné školy\, středního odborného učiliště a vyšší odborné školy\, Hořice\, Riegrova 1403\, 508 01 \nTermín konání:      20. března 2018 \n  \nProgram: \n07:30 – 08:00      Prezence účastníků \n  \n08:00 – 08:30      Zahájení a úvodní slovo\, informace o aktivitách Celostátní sítě pro venkov („CSV“) \n  \n08:30 – 09:20      Představení farmy a osobních zkušenosti s méně příznivými oblastmi (LFA). \nDušan Kresl\, SHZ\, místopředseda ČMSZP \n  \n09:20 – 09:40      Přestávka \n09:40 – 10:30      Představení farmy a osobních zkušeností s Agroenvironmentálně-klimatickými opatřeními (AEKO) podporovanými z PRV 2007 až 2013 a z PRV 2014‒2020. \n                            Ing. Kamil Surovík\, ředitel společnosti S A B A S spol. s r.o. \n  \n10:30 – 11:30      Diskuze o zkušenostech nejen z Programu rozvoje venkova \n  \n11:30 – 12:15      Přestávka \n  \n12:15 – 14:00 Exkurze: \n➢ Školní statek\, Jižní 2118\, 508 01 Hořice\n➢ Zemědělské družstvo Podchlumí Dobrá Voda\n507 73 Dobrá Voda u Hořic 210\n„Modernizace farmy Dobrá Voda v oblasti živočišné výroby“ \n  \nSvoji účast potvrďte nejpozději do 14. 3. 2018 na e-mail: menclova@cmszp.cz \nKapacita přednáškové místností i počet míst exkurze jsou omezeny. Do Vaší přihlášky prosím uveďte\, zda máte zájem o účast na exkurzi (pokud nebude tato informace v přihlášce na workshop uvedena\, bude to považováno za odmítnutí účasti na exkurzi). \nPokud převýší počet zájemců stanovené kapacity\, budou upřednostněni zájemci\,\nkteří pozvali přihlášku v dřívějším termínu a odmítnutí zájemci budou o tomto informováni. \nDěkujeme za pochopení. \nZa organizační tým srdečně zve \n  \n  \n  \nIng. František Winter\, předseda \n
URL:https://cmszp.cz/akce/workshop-mezigeneracni-vymena-zkusenosti-v-agrarnim-sektoru-2/
ORGANIZER;CN="%C4%8CMSZP":MAILTO:info@cmszp.cz
END:VEVENT
END:VCALENDAR