BEGIN:VCALENDAR
VERSION:2.0
PRODID:-//ČMSZP - ECPv4.9.14.1//NONSGML v1.0//EN
CALSCALE:GREGORIAN
METHOD:PUBLISH
X-WR-CALNAME:ČMSZP
X-ORIGINAL-URL:https://cmszp.cz
X-WR-CALDESC:Events for ČMSZP
BEGIN:VTIMEZONE
TZID:Europe/Prague
BEGIN:DAYLIGHT
TZOFFSETFROM:+0100
TZOFFSETTO:+0200
TZNAME:CEST
DTSTART:20240331T010000
END:DAYLIGHT
BEGIN:STANDARD
TZOFFSETFROM:+0200
TZOFFSETTO:+0100
TZNAME:CET
DTSTART:20241027T010000
END:STANDARD
END:VTIMEZONE
BEGIN:VEVENT
DTSTART;TZID=Europe/Prague:20241008T080000
DTEND;TZID=Europe/Prague:20241008T170000
DTSTAMP:20260422T134314
CREATED:20240924T085907Z
LAST-MODIFIED:20240924T085907Z
UID:11773-1728374400-1728406800@cmszp.cz
SUMMARY:„Udržitelnost ve stravování veřejné správy“
DESCRIPTION:\, na které se zaměříme na možnosti i příležitosti odpovědného veřejného zadávání a potenciál harmonizovaných standardů pro nákupy potravin v prostředí veřejné správy. \n\nKonference se bude konat dne 8. října 2024 v Praze (místo bude upřesněno) a bude přenášena online. \n
URL:https://cmszp.cz/akce/udrzitelnost-ve-stravovani-verejne-spravy/
END:VEVENT
END:VCALENDAR