BEGIN:VCALENDAR
VERSION:2.0
PRODID:-//ČMSZP - ECPv4.9.14.1//NONSGML v1.0//EN
CALSCALE:GREGORIAN
METHOD:PUBLISH
X-WR-CALNAME:ČMSZP
X-ORIGINAL-URL:https://cmszp.cz
X-WR-CALDESC:Events for ČMSZP
BEGIN:VTIMEZONE
TZID:Europe/Prague
BEGIN:DAYLIGHT
TZOFFSETFROM:+0100
TZOFFSETTO:+0200
TZNAME:CEST
DTSTART:20230326T010000
END:DAYLIGHT
BEGIN:STANDARD
TZOFFSETFROM:+0200
TZOFFSETTO:+0100
TZNAME:CET
DTSTART:20231029T010000
END:STANDARD
END:VTIMEZONE
BEGIN:VEVENT
DTSTART;TZID=Europe/Prague:20230131T080000
DTEND;TZID=Europe/Prague:20230131T170000
DTSTAMP:20260425T193546
CREATED:20230201T105105Z
LAST-MODIFIED:20230201T105553Z
UID:8479-1675152000-1675184400@cmszp.cz
SUMMARY:TPS - WELAFRE PRASATA (EMAIL)
DESCRIPTION:
URL:https://cmszp.cz/akce/tps-welafre-prasata-email/
END:VEVENT
END:VCALENDAR