BEGIN:VCALENDAR
VERSION:2.0
PRODID:-//ČMSZP - ECPv4.9.14.1//NONSGML v1.0//EN
CALSCALE:GREGORIAN
METHOD:PUBLISH
X-WR-CALNAME:ČMSZP
X-ORIGINAL-URL:https://cmszp.cz
X-WR-CALDESC:Events for ČMSZP
BEGIN:VTIMEZONE
TZID:Europe/Prague
BEGIN:DAYLIGHT
TZOFFSETFROM:+0100
TZOFFSETTO:+0200
TZNAME:CEST
DTSTART:20180325T010000
END:DAYLIGHT
BEGIN:STANDARD
TZOFFSETFROM:+0200
TZOFFSETTO:+0100
TZNAME:CET
DTSTART:20181028T010000
END:STANDARD
END:VTIMEZONE
BEGIN:VEVENT
DTSTART;TZID=Europe/Prague:20180316T100000
DTEND;TZID=Europe/Prague:20180316T170000
DTSTAMP:20260422T080113
CREATED:20180306T085742Z
LAST-MODIFIED:20180306T085742Z
UID:2493-1521194400-1521219600@cmszp.cz
SUMMARY:Setkání zástupců ČMSZP a AK
DESCRIPTION:
URL:https://cmszp.cz/akce/setkani-zastupcu-cmszp-a-ak/
END:VEVENT
END:VCALENDAR