BEGIN:VCALENDAR
VERSION:2.0
PRODID:-//ČMSZP - ECPv4.9.14.1//NONSGML v1.0//EN
CALSCALE:GREGORIAN
METHOD:PUBLISH
X-WR-CALNAME:ČMSZP
X-ORIGINAL-URL:https://cmszp.cz
X-WR-CALDESC:Events for ČMSZP
BEGIN:VTIMEZONE
TZID:Europe/Prague
BEGIN:DAYLIGHT
TZOFFSETFROM:+0100
TZOFFSETTO:+0200
TZNAME:CEST
DTSTART:20260329T010000
END:DAYLIGHT
BEGIN:STANDARD
TZOFFSETFROM:+0200
TZOFFSETTO:+0100
TZNAME:CET
DTSTART:20261025T010000
END:STANDARD
END:VTIMEZONE
BEGIN:VEVENT
DTSTART;VALUE=DATE:20260616
DTEND;VALUE=DATE:20260618
DTSTAMP:20260421T102109
CREATED:20251013T133408Z
LAST-MODIFIED:20251013T133408Z
UID:13962-1781575200-1781661599@cmszp.cz
SUMMARY:seminář\,\, Zákon o myslivosti“
DESCRIPTION:\n3.3.2026\n16.6.2026\n6.10.2026\n9.12.2026\n\n  \n
URL:https://cmszp.cz/akce/seminar-zakon-o-myslivosti-3/
END:VEVENT
END:VCALENDAR