BEGIN:VCALENDAR
VERSION:2.0
PRODID:-//ČMSZP - ECPv4.9.14.1//NONSGML v1.0//EN
CALSCALE:GREGORIAN
METHOD:PUBLISH
X-WR-CALNAME:ČMSZP
X-ORIGINAL-URL:https://cmszp.cz
X-WR-CALDESC:Events for ČMSZP
BEGIN:VTIMEZONE
TZID:Europe/Prague
BEGIN:DAYLIGHT
TZOFFSETFROM:+0100
TZOFFSETTO:+0200
TZNAME:CEST
DTSTART:20260329T010000
END:DAYLIGHT
BEGIN:STANDARD
TZOFFSETFROM:+0200
TZOFFSETTO:+0100
TZNAME:CET
DTSTART:20261025T010000
END:STANDARD
END:VTIMEZONE
BEGIN:VEVENT
DTSTART;TZID=Europe/Prague:20260610T090000
DTEND;TZID=Europe/Prague:20260610T170000
DTSTAMP:20260425T115509
CREATED:20260421T105236Z
LAST-MODIFIED:20260421T105239Z
UID:15040-1781082000-1781110800@cmszp.cz
SUMMARY:Seminář EKOLOGICKÉ ZEMĚDĚLSTVÍ V ČR – VÍCE NEŽ 35 LET ZA NÁMI A MNOHO VÝZEV PŘED NÁMI
DESCRIPTION:\n\n\n\nTermín: 10. června 2026 od 9.00 hodin \nMísto: Poslanecká sněmovna – sál Státních aktů A 108\, Sněmovní 4\, Praha 1\, 118 00 \n\n
URL:https://cmszp.cz/akce/seminar-ekologicke-zemedelstvi-v-cr-vice-nez-35-let-za-nami-a-mnoho-vyzev-pred-nami/
END:VEVENT
END:VCALENDAR