BEGIN:VCALENDAR
VERSION:2.0
PRODID:-//ČMSZP - ECPv4.9.14.1//NONSGML v1.0//EN
CALSCALE:GREGORIAN
METHOD:PUBLISH
X-WR-CALNAME:ČMSZP
X-ORIGINAL-URL:https://cmszp.cz
X-WR-CALDESC:Events for ČMSZP
BEGIN:VTIMEZONE
TZID:Europe/Prague
BEGIN:DAYLIGHT
TZOFFSETFROM:+0100
TZOFFSETTO:+0200
TZNAME:CEST
DTSTART:20220327T010000
END:DAYLIGHT
BEGIN:STANDARD
TZOFFSETFROM:+0200
TZOFFSETTO:+0100
TZNAME:CET
DTSTART:20221030T010000
END:STANDARD
END:VTIMEZONE
BEGIN:VEVENT
DTSTART;TZID=Europe/Prague:20221031T130000
DTEND;TZID=Europe/Prague:20221031T170000
DTSTAMP:20260426T000150
CREATED:20221019T082626Z
LAST-MODIFIED:20221019T082626Z
UID:8029-1667221200-1667235600@cmszp.cz
SUMMARY:PS Precizní zemědělství
DESCRIPTION:31. 10. 2022 v budově Ministerstva zemědělství\, zasedací místnost č. 101 a to od 13:00. \n
URL:https://cmszp.cz/akce/ps-precizni-zemedelstvi/
END:VEVENT
END:VCALENDAR