BEGIN:VCALENDAR
VERSION:2.0
PRODID:-//ČMSZP - ECPv4.9.14.1//NONSGML v1.0//EN
CALSCALE:GREGORIAN
METHOD:PUBLISH
X-WR-CALNAME:ČMSZP
X-ORIGINAL-URL:https://cmszp.cz
X-WR-CALDESC:Events for ČMSZP
BEGIN:VTIMEZONE
TZID:Europe/Prague
BEGIN:DAYLIGHT
TZOFFSETFROM:+0100
TZOFFSETTO:+0200
TZNAME:CEST
DTSTART:20240331T010000
END:DAYLIGHT
BEGIN:STANDARD
TZOFFSETFROM:+0200
TZOFFSETTO:+0100
TZNAME:CET
DTSTART:20241027T010000
END:STANDARD
END:VTIMEZONE
BEGIN:VEVENT
DTSTART;TZID=Europe/Prague:20241015T093000
DTEND;TZID=Europe/Prague:20241015T170000
DTSTAMP:20260422T134321
CREATED:20240923T161650Z
LAST-MODIFIED:20240923T161650Z
UID:11735-1728984600-1729011600@cmszp.cz
SUMMARY:PS MV SZP 37.73 - Technologie snižující emise GHG a NH3
DESCRIPTION:\n\n\nNázev\nTermín odeslání podkladů\nTermín jednání\n\n\n35.73 – Technologické investice v lesním hospodářství a \n36.73 – Investice do lesnické infrastruktury\n24. 9. 2024\n9. 10.\, 9:00 – 10:00\, MZe\, místnost č. 101\n\n\nNovely nařízení vlády pro environmentální opatření rozvoje venkova\n24. 9. 2024\n9. 10.\, 10:00 – 13:00\, \nMZe\, místnost č.101\n\n\nPřímé platby – nařízení vlády\n25. 9. 2024\n10. 10.\, 13:30 \nMZe\, místnost č. 101\n\n\n55.78 – Podpora vzdělávání\, záměr b) Výměna řídicích pracovníků\n26. 9. 2024\n11. 10.\, 9:30\, \nMZe\, místnost č. 101\n\n\n37.73 – Technologie snižující emise GHG a NH3\n30. 9. 2024\n15. 10.\, 9:30 \nMZe\, místnost č. 101\n\n\n\n
URL:https://cmszp.cz/akce/ps-mv-szp-37-73-technologie-snizujici-emise-ghg-a-nh3/
END:VEVENT
END:VCALENDAR