BEGIN:VCALENDAR
VERSION:2.0
PRODID:-//ČMSZP - ECPv4.9.14.1//NONSGML v1.0//EN
CALSCALE:GREGORIAN
METHOD:PUBLISH
X-WR-CALNAME:ČMSZP
X-ORIGINAL-URL:https://cmszp.cz
X-WR-CALDESC:Events for ČMSZP
BEGIN:VTIMEZONE
TZID:Europe/Prague
BEGIN:DAYLIGHT
TZOFFSETFROM:+0100
TZOFFSETTO:+0200
TZNAME:CEST
DTSTART:20180325T010000
END:DAYLIGHT
BEGIN:STANDARD
TZOFFSETFROM:+0200
TZOFFSETTO:+0100
TZNAME:CET
DTSTART:20181028T010000
END:STANDARD
END:VTIMEZONE
BEGIN:VEVENT
DTSTART;TZID=Europe/Prague:20180515T090000
DTEND;TZID=Europe/Prague:20180515T170000
DTSTAMP:20260421T125149
CREATED:20180504T064259Z
LAST-MODIFIED:20180504T064259Z
UID:2693-1526374800-1526403600@cmszp.cz
SUMMARY:PS 1.1.1 Vzdělávací akce\, 16.3.1 Sdílení zařízení a zdrojů\, 16.4.1 Horizontální a vertikální spolupráce mezi účastníky krátkých dodavatelských řetězců a místních trhů a 16.6.1 Horizontální a vertikální spolupráce při udržitelném zajišťování biomasy pro výrobu energie\, výrobu potravin a v průmyslových procesech
DESCRIPTION:Pracovní skupiny MV PRV k operacím 1.1.1 Vzdělávací akce\, 16.3.1 Sdílení zařízení a zdrojů\, 16.4.1 Horizontální a vertikální spolupráce mezi účastníky krátkých dodavatelských řetězců a místních trhů a 16.6.1 Horizontální a vertikální spolupráce při udržitelném zajišťování biomasy pro výrobu energie\, výrobu potravin a v průmyslových procesech \nJednání Pracovní skupiny se bude konat ve úterý 15. května 2018 od 09:00 v budově MZe\, v místnosti č. 413. \n
URL:https://cmszp.cz/akce/ps-1-1-1-vzdelavaci-akce-16-3-1-sdileni-zarizeni-a-zdroju-16-4-1-horizontalni-a-vertikalni-spoluprace-mezi-ucastniky-kratkych-dodavatelskych-retezcu-a-mistnich-trhu-a-16-6-1-horizontalni-a-vertikaln/
END:VEVENT
END:VCALENDAR