BEGIN:VCALENDAR
VERSION:2.0
PRODID:-//ČMSZP - ECPv4.9.14.1//NONSGML v1.0//EN
CALSCALE:GREGORIAN
METHOD:PUBLISH
X-WR-CALNAME:ČMSZP
X-ORIGINAL-URL:https://cmszp.cz
X-WR-CALDESC:Events for ČMSZP
BEGIN:VTIMEZONE
TZID:Europe/Prague
BEGIN:DAYLIGHT
TZOFFSETFROM:+0100
TZOFFSETTO:+0200
TZNAME:CEST
DTSTART:20240331T010000
END:DAYLIGHT
BEGIN:STANDARD
TZOFFSETFROM:+0200
TZOFFSETTO:+0100
TZNAME:CET
DTSTART:20241027T010000
END:STANDARD
END:VTIMEZONE
BEGIN:VEVENT
DTSTART;TZID=Europe/Prague:20240202T100000
DTEND;TZID=Europe/Prague:20240202T170000
DTSTAMP:20260423T012621
CREATED:20240130T103429Z
LAST-MODIFIED:20240130T103429Z
UID:10384-1706868000-1706893200@cmszp.cz
SUMMARY:PŘEDSEDICTVO ČMSZP
DESCRIPTION:
URL:https://cmszp.cz/akce/predsedictvo-cmszp/
END:VEVENT
END:VCALENDAR