BEGIN:VCALENDAR
VERSION:2.0
PRODID:-//ČMSZP - ECPv4.9.14.1//NONSGML v1.0//EN
CALSCALE:GREGORIAN
METHOD:PUBLISH
X-WR-CALNAME:ČMSZP
X-ORIGINAL-URL:https://cmszp.cz
X-WR-CALDESC:Events for ČMSZP
BEGIN:VTIMEZONE
TZID:Europe/Prague
BEGIN:DAYLIGHT
TZOFFSETFROM:+0100
TZOFFSETTO:+0200
TZNAME:CEST
DTSTART:20220327T010000
END:DAYLIGHT
BEGIN:STANDARD
TZOFFSETFROM:+0200
TZOFFSETTO:+0100
TZNAME:CET
DTSTART:20221030T010000
END:STANDARD
END:VTIMEZONE
BEGIN:VEVENT
DTSTART;TZID=Europe/Prague:20221024T100000
DTEND;TZID=Europe/Prague:20221024T130000
DTSTAMP:20260426T013016
CREATED:20221007T125606Z
LAST-MODIFIED:20221007T125606Z
UID:7966-1666605600-1666616400@cmszp.cz
SUMMARY:Pracovní skupiny Monitorovacího výboru Programu rozvoje venkova 2014 – 2020 - FW
DESCRIPTION:Pracovní skupiny Monitorovacího výboru Programu rozvoje venkova 2014 – 2020 \n  \nJednání Pracovní skupiny proběhne online prostřednictvím MS Teams dne 24. 10. 2022 od 10:00. Předpokládaný konec jednání je v 13 hodin. Účast na jednání\, prosím\, potvrďte do 14. 10. 2022 \n
URL:https://cmszp.cz/akce/pracovni-skupiny-monitorovaciho-vyboru-programu-rozvoje-venkova-2014-2020-fw/
END:VEVENT
END:VCALENDAR