BEGIN:VCALENDAR
VERSION:2.0
PRODID:-//ČMSZP - ECPv4.9.14.1//NONSGML v1.0//EN
CALSCALE:GREGORIAN
METHOD:PUBLISH
X-WR-CALNAME:ČMSZP
X-ORIGINAL-URL:https://cmszp.cz
X-WR-CALDESC:Events for ČMSZP
BEGIN:VTIMEZONE
TZID:Europe/Prague
BEGIN:DAYLIGHT
TZOFFSETFROM:+0100
TZOFFSETTO:+0200
TZNAME:CEST
DTSTART:20220327T010000
END:DAYLIGHT
BEGIN:STANDARD
TZOFFSETFROM:+0200
TZOFFSETTO:+0100
TZNAME:CET
DTSTART:20221030T010000
END:STANDARD
END:VTIMEZONE
BEGIN:VEVENT
DTSTART;VALUE=DATE:20220905
DTEND;VALUE=DATE:20220911
DTSTAMP:20260426T025602
CREATED:20220404T102222Z
LAST-MODIFIED:20220404T102717Z
UID:7185-1662343200-1662775199@cmszp.cz
SUMMARY:Oranžová stuha 2022 - FW
DESCRIPTION:Hodnotitelská komise navštíví v termínu od 5. do 9. září 2022 obce\, které získají v krajském\nkole soutěže Vesnice roku ocenění Oranžová stuha. \n
URL:https://cmszp.cz/akce/oranzova-stuha-2022-fw/
END:VEVENT
END:VCALENDAR