BEGIN:VCALENDAR
VERSION:2.0
PRODID:-//ČMSZP - ECPv4.9.14.1//NONSGML v1.0//EN
CALSCALE:GREGORIAN
METHOD:PUBLISH
X-WR-CALNAME:ČMSZP
X-ORIGINAL-URL:https://cmszp.cz
X-WR-CALDESC:Events for ČMSZP
BEGIN:VTIMEZONE
TZID:Europe/Prague
BEGIN:DAYLIGHT
TZOFFSETFROM:+0100
TZOFFSETTO:+0200
TZNAME:CEST
DTSTART:20230326T010000
END:DAYLIGHT
BEGIN:STANDARD
TZOFFSETFROM:+0200
TZOFFSETTO:+0100
TZNAME:CET
DTSTART:20231029T010000
END:STANDARD
END:VTIMEZONE
BEGIN:VEVENT
DTSTART;TZID=Europe/Prague:20230307T090000
DTEND;TZID=Europe/Prague:20230307T170000
DTSTAMP:20260425T175102
CREATED:20230203T104225Z
LAST-MODIFIED:20230203T104225Z
UID:8493-1678179600-1678208400@cmszp.cz
SUMMARY:MV SZP - Investice do zpracování zemědělských produktů
DESCRIPTION:\n7. 3. 2023\, 9:00\,  MZe\, zasedací místnost 101 – intervence 34.73 – Investice do zpracování zemědělských produktů\n8. 3. 2023\, 10:00\, MZe\, zasedací místnost 101 – intervence 33.73 – Investice do zemědělských podniků\n9. 3. 2023\, 10:00\, MZe\, zasedací místnost 101 – intervence 51.77 – Inovace při zpracování zemědělských produktů\n\n
URL:https://cmszp.cz/akce/mv-szp-investice-do-zpracovani-zemedelskych-produktu/
LOCATION:Ministerstvo zemědělství\, Těšnov 17\, Praha
END:VEVENT
END:VCALENDAR