BEGIN:VCALENDAR
VERSION:2.0
PRODID:-//ČMSZP - ECPv4.9.14.1//NONSGML v1.0//EN
CALSCALE:GREGORIAN
METHOD:PUBLISH
X-WR-CALNAME:ČMSZP
X-ORIGINAL-URL:https://cmszp.cz
X-WR-CALDESC:Events for ČMSZP
BEGIN:VTIMEZONE
TZID:Europe/Prague
BEGIN:DAYLIGHT
TZOFFSETFROM:+0100
TZOFFSETTO:+0200
TZNAME:CEST
DTSTART:20260329T010000
END:DAYLIGHT
BEGIN:STANDARD
TZOFFSETFROM:+0200
TZOFFSETTO:+0100
TZNAME:CET
DTSTART:20261025T010000
END:STANDARD
END:VTIMEZONE
BEGIN:VEVENT
DTSTART;VALUE=DATE:20260623
DTEND;VALUE=DATE:20260625
DTSTAMP:20260421T101814
CREATED:20260409T115836Z
LAST-MODIFIED:20260409T115836Z
UID:15001-1782180000-1782266399@cmszp.cz
SUMMARY:MV SP SZP
DESCRIPTION: jednání Monitorovacího výboru SP SZP proběhne 23. 6. 2026 v Praze. \n
URL:https://cmszp.cz/akce/mv-sp-szp-6/
END:VEVENT
END:VCALENDAR