BEGIN:VCALENDAR
VERSION:2.0
PRODID:-//ČMSZP - ECPv4.9.14.1//NONSGML v1.0//EN
CALSCALE:GREGORIAN
METHOD:PUBLISH
X-WR-CALNAME:ČMSZP
X-ORIGINAL-URL:https://cmszp.cz
X-WR-CALDESC:Events for ČMSZP
BEGIN:VTIMEZONE
TZID:Europe/Prague
BEGIN:DAYLIGHT
TZOFFSETFROM:+0100
TZOFFSETTO:+0200
TZNAME:CEST
DTSTART:20240331T010000
END:DAYLIGHT
BEGIN:STANDARD
TZOFFSETFROM:+0200
TZOFFSETTO:+0100
TZNAME:CET
DTSTART:20241027T010000
END:STANDARD
END:VTIMEZONE
BEGIN:VEVENT
DTSTART;TZID=Europe/Prague:20240917T080000
DTEND;TZID=Europe/Prague:20240917T170000
DTSTAMP:20260422T152928
CREATED:20240917T201810Z
LAST-MODIFIED:20240917T201810Z
UID:11700-1726560000-1726592400@cmszp.cz
SUMMARY:Kulatý stůl - „Současný stav českých lesů a jak zajistit jejich odolnost“
DESCRIPTION:Dobrý den\, \n  \ndovolte nám informovat vás o vývoji naší plánované akce\, avizovaného kulatého stolu k tématu „Současný stav českých lesů a jak zajistit jejich odolnost“\, který se měl uskutečnit v termínu 19. září v Olomoucí. \nVzhledem k současným povodňovým událostem v Olomouckém kraji jsme se rozhodli tento termín zrušit a hledat pro něj náhradu. \n  \nObracíme se proto na vás dnes s prosbou\, zdali by vám vyhovoval například termín\npátek 27. září v dopoledních hodinách (opět v sídle Olomouckého kraje). \n  \nChtěli bychom vás touto cestou požádat\, zdali by bylo možné\nzískat vyjádření k náhradnímu termínu do úterý 17. září odpoledne. \n  \nPředem moc děkujeme za pochopení \n  \n  \n  \nS pozdravem \n\nTomáš Pavlík \ntiskový mluvčí \nČeská asociace pojišťoven \nMain Point Pankrác \nMilevská 2095/5 \n140 00  Praha 4 \n \nM  +420 731 151 477 \n\nE tomas.pavlik@cap.cz \n
URL:https://cmszp.cz/akce/kulaty-stul-soucasny-stav-ceskych-lesu-a-jak-zajistit-jejich-odolnost/
END:VEVENT
END:VCALENDAR