BEGIN:VCALENDAR
VERSION:2.0
PRODID:-//ČMSZP - ECPv4.9.14.1//NONSGML v1.0//EN
CALSCALE:GREGORIAN
METHOD:PUBLISH
X-WR-CALNAME:ČMSZP
X-ORIGINAL-URL:https://cmszp.cz
X-WR-CALDESC:Events for ČMSZP
BEGIN:VTIMEZONE
TZID:Europe/Prague
BEGIN:DAYLIGHT
TZOFFSETFROM:+0100
TZOFFSETTO:+0200
TZNAME:CEST
DTSTART:20220327T010000
END:DAYLIGHT
BEGIN:STANDARD
TZOFFSETFROM:+0200
TZOFFSETTO:+0100
TZNAME:CET
DTSTART:20221030T010000
END:STANDARD
END:VTIMEZONE
BEGIN:VEVENT
DTSTART;TZID=Europe/Prague:20221102T100000
DTEND;TZID=Europe/Prague:20221102T120000
DTSTAMP:20260426T001338
CREATED:20221007T142446Z
LAST-MODIFIED:20221007T142446Z
UID:7970-1667383200-1667390400@cmszp.cz
SUMMARY:GEOPA COPA
DESCRIPTION:setkání a události Geopa: \n* 2. listopadu od 10 do 12 hodin: Schůze předsednictva (online) \n* 19. prosince (plánováno): Plenární zasedání Výboru pro odvětvový sociální dialog (Brusel) \n* 20. prosince (načasování bude aktualizováno): Valné shromáždění Geopa (Brusel) \n
URL:https://cmszp.cz/akce/geopa-copa/
END:VEVENT
END:VCALENDAR