BEGIN:VCALENDAR
VERSION:2.0
PRODID:-//ČMSZP - ECPv4.9.14.1//NONSGML v1.0//EN
CALSCALE:GREGORIAN
METHOD:PUBLISH
X-WR-CALNAME:ČMSZP
X-ORIGINAL-URL:https://cmszp.cz
X-WR-CALDESC:Events for ČMSZP
BEGIN:VTIMEZONE
TZID:Europe/Prague
BEGIN:DAYLIGHT
TZOFFSETFROM:+0100
TZOFFSETTO:+0200
TZNAME:CEST
DTSTART:20220327T010000
END:DAYLIGHT
BEGIN:STANDARD
TZOFFSETFROM:+0200
TZOFFSETTO:+0100
TZNAME:CET
DTSTART:20221030T010000
END:STANDARD
END:VTIMEZONE
BEGIN:VEVENT
DTSTART;VALUE=DATE:20221219
DTEND;VALUE=DATE:20221222
DTSTAMP:20260425T224059
CREATED:20221007T142622Z
LAST-MODIFIED:20221007T142622Z
UID:7973-1671415200-1671587999@cmszp.cz
SUMMARY:GEOPA COPA (BRUSEL - VOLEBNÍ VH A SETKÁNÍ S EK)
DESCRIPTION:* 19. prosince (plánováno): Plenární zasedání Výboru pro odvětvový sociální dialog (Brusel) \n* 20. prosince (načasování bude aktualizováno): Valné shromáždění Geopa (Brusel) \n
URL:https://cmszp.cz/akce/geopa-copa-brusel-volebni-vh-a-setkani-s-ek/
END:VEVENT
END:VCALENDAR