BEGIN:VCALENDAR
VERSION:2.0
PRODID:-//ČMSZP - ECPv4.9.14.1//NONSGML v1.0//EN
CALSCALE:GREGORIAN
METHOD:PUBLISH
X-WR-CALNAME:ČMSZP
X-ORIGINAL-URL:https://cmszp.cz
X-WR-CALDESC:Events for ČMSZP
BEGIN:VTIMEZONE
TZID:Europe/Prague
BEGIN:DAYLIGHT
TZOFFSETFROM:+0100
TZOFFSETTO:+0200
TZNAME:CEST
DTSTART:20230326T010000
END:DAYLIGHT
BEGIN:STANDARD
TZOFFSETFROM:+0200
TZOFFSETTO:+0100
TZNAME:CET
DTSTART:20231029T010000
END:STANDARD
END:VTIMEZONE
BEGIN:VEVENT
DTSTART;TZID=Europe/Prague:20230220T100000
DTEND;TZID=Europe/Prague:20230220T170000
DTSTAMP:20260425T210356
CREATED:20230205T123226Z
LAST-MODIFIED:20230207T114923Z
UID:8522-1676887200-1676912400@cmszp.cz
SUMMARY:ABK - desatero
DESCRIPTION:II. Pracovní schůzku \nke dvěma bodům „desatera“\, které v současné době řeší ABK \nJedná se o:\n1) Povinnost prokazování ekologické produkce zemědělců prostřednictvím\nelektronické evidence odevzdávané přes portál farmáře k 31.1. daného roku\n2) Povinnost elektronické evidence hnojení od 20 ha \n  \n
URL:https://cmszp.cz/akce/evidence-hnojiv-jednani-mze-pozadavky-eu/
END:VEVENT
END:VCALENDAR