BEGIN:VCALENDAR
VERSION:2.0
PRODID:-//ČMSZP - ECPv4.9.14.1//NONSGML v1.0//EN
CALSCALE:GREGORIAN
METHOD:PUBLISH
X-WR-CALNAME:ČMSZP
X-ORIGINAL-URL:https://cmszp.cz
X-WR-CALDESC:Events for ČMSZP
BEGIN:VTIMEZONE
TZID:Europe/Prague
BEGIN:DAYLIGHT
TZOFFSETFROM:+0100
TZOFFSETTO:+0200
TZNAME:CEST
DTSTART:20220327T010000
END:DAYLIGHT
BEGIN:STANDARD
TZOFFSETFROM:+0200
TZOFFSETTO:+0100
TZNAME:CET
DTSTART:20221030T010000
END:STANDARD
END:VTIMEZONE
BEGIN:VEVENT
DTSTART;TZID=Europe/Prague:20221115T110000
DTEND;TZID=Europe/Prague:20221115T170000
DTSTAMP:20260426T001732
CREATED:20221110T185314Z
LAST-MODIFIED:20221110T185314Z
UID:8135-1668510000-1668531600@cmszp.cz
SUMMARY:EPG monthly (15/11/2022)
DESCRIPTION:EPG monthly (15/11/2022) \n
URL:https://cmszp.cz/akce/epg-monthly-15-11-2022/
END:VEVENT
END:VCALENDAR