BEGIN:VCALENDAR
VERSION:2.0
PRODID:-//ČMSZP - ECPv4.9.14.1//NONSGML v1.0//EN
CALSCALE:GREGORIAN
METHOD:PUBLISH
X-WR-CALNAME:ČMSZP
X-ORIGINAL-URL:https://cmszp.cz
X-WR-CALDESC:Events for ČMSZP
BEGIN:VTIMEZONE
TZID:Europe/Prague
BEGIN:DAYLIGHT
TZOFFSETFROM:+0100
TZOFFSETTO:+0200
TZNAME:CEST
DTSTART:20240331T010000
END:DAYLIGHT
BEGIN:STANDARD
TZOFFSETFROM:+0200
TZOFFSETTO:+0100
TZNAME:CET
DTSTART:20241027T010000
END:STANDARD
END:VTIMEZONE
BEGIN:VEVENT
DTSTART;VALUE=DATE:20240911
DTEND;VALUE=DATE:20240914
DTSTAMP:20260422T151634
CREATED:20240813T103045Z
LAST-MODIFIED:20240813T115431Z
UID:11534-1726020000-1726192799@cmszp.cz
SUMMARY:DEN ZEMĚDĚLCE CELOSTÁTNÍ KONTRAKTAČNÍ VÝSTAVA A PŘEDVÁDĚNÍ ZEMĚDELSKÉ TECHNIKY
DESCRIPTION:Unčovice u Olomouce\, lokalita Náklo \n
URL:https://cmszp.cz/akce/den-zemedelce-celostatni-kontraktacni-vystava-a-predvadeni-zemedelske-techniky/
LOCATION:Unčovice u Olomouce\, lokalita Náklo\, Náklo\, 783 32
END:VEVENT
END:VCALENDAR