BEGIN:VCALENDAR
VERSION:2.0
PRODID:-//ČMSZP - ECPv4.9.14.1//NONSGML v1.0//EN
CALSCALE:GREGORIAN
METHOD:PUBLISH
X-WR-CALNAME:ČMSZP
X-ORIGINAL-URL:https://cmszp.cz
X-WR-CALDESC:Events for ČMSZP
BEGIN:VTIMEZONE
TZID:Europe/Prague
BEGIN:DAYLIGHT
TZOFFSETFROM:+0100
TZOFFSETTO:+0200
TZNAME:CEST
DTSTART:20240331T010000
END:DAYLIGHT
BEGIN:STANDARD
TZOFFSETFROM:+0200
TZOFFSETTO:+0100
TZNAME:CET
DTSTART:20241027T010000
END:STANDARD
END:VTIMEZONE
BEGIN:VEVENT
DTSTART;VALUE=DATE:20240902
DTEND;VALUE=DATE:20240908
DTSTAMP:20260422T161833
CREATED:20240813T103153Z
LAST-MODIFIED:20240813T103153Z
UID:11536-1725242400-1725674399@cmszp.cz
SUMMARY:Delegace kolegů z lotyšska - SIA "Latvijas Lauku konsultāciju un izglītības centrs"\,
DESCRIPTION:SIA „Latvijas Lauku konsultāciju un izglītības centrs“\,\nCēsu konsultāciju birojs\, Cēsu nodaļa \n
URL:https://cmszp.cz/akce/delegace-kolegu-z-lotysska-sia-latvijas-lauku-konsultaciju-un-izglitibas-centrs/
END:VEVENT
END:VCALENDAR