BEGIN:VCALENDAR
VERSION:2.0
PRODID:-//ČMSZP - ECPv4.9.14.1//NONSGML v1.0//EN
CALSCALE:GREGORIAN
METHOD:PUBLISH
X-WR-CALNAME:ČMSZP
X-ORIGINAL-URL:https://cmszp.cz
X-WR-CALDESC:Events for ČMSZP
BEGIN:VTIMEZONE
TZID:Europe/Prague
BEGIN:DAYLIGHT
TZOFFSETFROM:+0100
TZOFFSETTO:+0200
TZNAME:CEST
DTSTART:20180325T010000
END:DAYLIGHT
BEGIN:STANDARD
TZOFFSETFROM:+0200
TZOFFSETTO:+0100
TZNAME:CET
DTSTART:20181028T010000
END:STANDARD
END:VTIMEZONE
BEGIN:VEVENT
DTSTART;VALUE=DATE:20180320
DTEND;VALUE=DATE:20180322
DTSTAMP:20260422T075704
CREATED:20180314T113436Z
LAST-MODIFIED:20180314T113436Z
UID:2523-1521511200-1521597599@cmszp.cz
SUMMARY:Český zemědělec a jeho budoucnost. Světlo na konci tunelu? Velký sál paláce Žofín\, 20. března 2018 od 13\,00 hod.
DESCRIPTION:Záštitu nad Žofínským fórem převzal ministr zemědělství Jiří Milek. \nNa 219. Žofínském fóru vystoupí a zodpoví dotazy:\nJiří Milek\, ministr zemědělství\nBohumil Belada\, viceprezident Agrární komory ČR\nMartin Pýcha\, předseda Zemědělského svazu ČR\nKarel Bureš\, generální ředitel České exportní banky\, a.s.\nZdeněk Nekula\, předseda představenstva PGRLF\, a.s.\nJaroslaw Szczypka\, jednatel BILLA s.r.o.\nVáclav Klejch\, předseda představenstva ZD Dolní Újezd\nPavel Šrámek\, soukromý zemědělec\nKarol Müller\, Centrum Prosperity\, s.r.o. \nJaká budoucnost čeká naše zemědělce? Co čeká Společnou zemědělskou politiku\, splňuje vyjednávání ke SZP po roce 2020 naše očekávání? Proč jsou takové rozdíly v národních dotacích\, které výrazně deformují evropský trh? Podaří se vyrovnat dotace pro naše zemědělce na úroveň „starých zemí“ EU? Podaří se vyřešit vazbu mezi vlastnictvím půdy a oprávněnosti k získání dotačních podpor? Jak zastavit trvalé zmenšování výměry zemědělské půdy?  Dosáhneme v blízké budoucnosti soběstačnosti ve výrobě potravin? Proč polovinu spotřeby vepřového masa dovážíme?  Jsou přijatá opatření k zamezení sucha dostatečná? Je podpora vývozcům potravin a zemědělských plodin dostatečná? Jaká jsou největší rizika zemědělsko-potravinářského podnikání a jaká jsou jejich východiska? Nejen toto jsou otázky\, které se jistě stanou předmětem diskuse na březnovém Žofínském fóru… \nZměna programu vyhrazena! \n
URL:https://cmszp.cz/akce/cesky-zemedelec-a-jeho-budoucnost-svetlo-na-konci-tunelu-velky-sal-palace-zofin-20-brezna-2018-od-1300-hod/
END:VEVENT
END:VCALENDAR