BEGIN:VCALENDAR
VERSION:2.0
PRODID:-//ČMSZP - ECPv4.9.14.1//NONSGML v1.0//EN
CALSCALE:GREGORIAN
METHOD:PUBLISH
X-WR-CALNAME:ČMSZP
X-ORIGINAL-URL:https://cmszp.cz
X-WR-CALDESC:Events for ČMSZP
BEGIN:VTIMEZONE
TZID:Europe/Prague
BEGIN:DAYLIGHT
TZOFFSETFROM:+0100
TZOFFSETTO:+0200
TZNAME:CEST
DTSTART:20220327T010000
END:DAYLIGHT
BEGIN:STANDARD
TZOFFSETFROM:+0200
TZOFFSETTO:+0100
TZNAME:CET
DTSTART:20221030T010000
END:STANDARD
END:VTIMEZONE
BEGIN:VEVENT
DTSTART;VALUE=DATE:20221205
DTEND;VALUE=DATE:20221208
DTSTAMP:20260426T001527
CREATED:20221111T082350Z
LAST-MODIFIED:20221111T082350Z
UID:8140-1670205600-1670378399@cmszp.cz
SUMMARY:Akce ČMSZP - SP SZP 2023+
DESCRIPTION:Výjezdní zasedání pro členy ČMSZP \n
URL:https://cmszp.cz/akce/akce-cmszp-sp-szp-2023/
END:VEVENT
END:VCALENDAR