BEGIN:VCALENDAR
VERSION:2.0
PRODID:-//ČMSZP - ECPv4.9.14.1//NONSGML v1.0//EN
CALSCALE:GREGORIAN
METHOD:PUBLISH
X-WR-CALNAME:ČMSZP
X-ORIGINAL-URL:https://cmszp.cz
X-WR-CALDESC:Events for ČMSZP
BEGIN:VTIMEZONE
TZID:Europe/Prague
BEGIN:DAYLIGHT
TZOFFSETFROM:+0100
TZOFFSETTO:+0200
TZNAME:CEST
DTSTART:20240331T010000
END:DAYLIGHT
BEGIN:STANDARD
TZOFFSETFROM:+0200
TZOFFSETTO:+0100
TZNAME:CET
DTSTART:20241027T010000
END:STANDARD
END:VTIMEZONE
BEGIN:VEVENT
DTSTART;TZID=Europe/Prague:20241030T080000
DTEND;TZID=Europe/Prague:20241030T170000
DTSTAMP:20260422T122125
CREATED:20241024T084711Z
LAST-MODIFIED:20241024T084711Z
UID:11945-1730275200-1730307600@cmszp.cz
SUMMARY:ABK
DESCRIPTION:57. jednání ABK MZe\, které se uskuteční ve středu 30. 10. 2024 od 10:00 hod v zasedací místnosti č. 101. \n
URL:https://cmszp.cz/akce/abk-28/
END:VEVENT
END:VCALENDAR