BEGIN:VCALENDAR
VERSION:2.0
PRODID:-//ČMSZP - ECPv4.9.14.1//NONSGML v1.0//EN
CALSCALE:GREGORIAN
METHOD:PUBLISH
X-WR-CALNAME:ČMSZP
X-ORIGINAL-URL:https://cmszp.cz
X-WR-CALDESC:Events for ČMSZP
BEGIN:VTIMEZONE
TZID:Europe/Prague
BEGIN:DAYLIGHT
TZOFFSETFROM:+0100
TZOFFSETTO:+0200
TZNAME:CEST
DTSTART:20180325T010000
END:DAYLIGHT
BEGIN:STANDARD
TZOFFSETFROM:+0200
TZOFFSETTO:+0100
TZNAME:CET
DTSTART:20181028T010000
END:STANDARD
END:VTIMEZONE
BEGIN:VEVENT
DTSTART;TZID=Europe/Prague:20180404T080000
DTEND;TZID=Europe/Prague:20180404T170000
DTSTAMP:20260421T214541
CREATED:20180322T201802Z
LAST-MODIFIED:20180322T201802Z
UID:2567-1522828800-1522861200@cmszp.cz
SUMMARY:ABK
DESCRIPTION:Antibyrokratická komise – 100.jednání \n
URL:https://cmszp.cz/akce/abk-2/
END:VEVENT
END:VCALENDAR