BEGIN:VCALENDAR
VERSION:2.0
PRODID:-//ČMSZP - ECPv4.9.14.1//NONSGML v1.0//EN
CALSCALE:GREGORIAN
METHOD:PUBLISH
X-WR-CALNAME:ČMSZP
X-ORIGINAL-URL:https://cmszp.cz
X-WR-CALDESC:Events for ČMSZP
BEGIN:VTIMEZONE
TZID:Europe/Prague
BEGIN:DAYLIGHT
TZOFFSETFROM:+0100
TZOFFSETTO:+0200
TZNAME:CEST
DTSTART:20250330T010000
END:DAYLIGHT
BEGIN:STANDARD
TZOFFSETFROM:+0200
TZOFFSETTO:+0100
TZNAME:CET
DTSTART:20251026T010000
END:STANDARD
END:VTIMEZONE
BEGIN:VEVENT
DTSTART;TZID=Europe/Prague:20250429T090000
DTEND;TZID=Europe/Prague:20250429T170000
DTSTAMP:20260422T040525
CREATED:20250415T130738Z
LAST-MODIFIED:20250415T132251Z
UID:13080-1745917200-1745946000@cmszp.cz
SUMMARY:33.73 – Investice do zemědělských podniků
DESCRIPTION:  \n29. 4.\, 9:00\nMístnost č. 101 \n
URL:https://cmszp.cz/akce/33-73-investice-do-zemedelskych-podniku-2/
END:VEVENT
END:VCALENDAR