BEGIN:VCALENDAR
VERSION:2.0
PRODID:-//ČMSZP - ECPv4.9.14.1//NONSGML v1.0//EN
CALSCALE:GREGORIAN
METHOD:PUBLISH
X-WR-CALNAME:ČMSZP
X-ORIGINAL-URL:https://cmszp.cz
X-WR-CALDESC:Events for ČMSZP
BEGIN:VTIMEZONE
TZID:Europe/Prague
BEGIN:DAYLIGHT
TZOFFSETFROM:+0100
TZOFFSETTO:+0200
TZNAME:CEST
DTSTART:20240331T010000
END:DAYLIGHT
BEGIN:STANDARD
TZOFFSETFROM:+0200
TZOFFSETTO:+0100
TZNAME:CET
DTSTART:20241027T010000
END:STANDARD
END:VTIMEZONE
BEGIN:VEVENT
DTSTART;VALUE=DATE:20240621
DTEND;VALUE=DATE:20240623
DTSTAMP:20260422T204906
CREATED:20240530T133636Z
LAST-MODIFIED:20240530T133644Z
UID:11195-1718935200-1719021599@cmszp.cz
SUMMARY:21. jednání MV PRV - PER ROLLAM - FW
DESCRIPTION:Vážené členky a vážení členové Monitorovacího výboru PRV 2014–2020\, \ndovolte mi Vás informovat\, že v souladu s Jednacím řádem Monitorovacího výboru PRV 2014–2020 (dále jen „MV PRV“) bude spuštěn proces per rollam\, kterým bude nahrazeno 21. jednání MV PRV. \nProjednání per rollam bude probíhat v termínu od 7. června 2024 do 21. června 2024. Veškeré podklady k tomuto projednání per rollam Vám zašleme dne 7. června 2024 a budou vloženy i do systému MS2014+. \n
URL:https://cmszp.cz/akce/21-jednani-mv-prv-per-rollam/
END:VEVENT
END:VCALENDAR