BEGIN:VCALENDAR
VERSION:2.0
PRODID:-//ČMSZP - ECPv4.9.14.1//NONSGML v1.0//EN
CALSCALE:GREGORIAN
METHOD:PUBLISH
X-WR-CALNAME:ČMSZP
X-ORIGINAL-URL:https://cmszp.cz
X-WR-CALDESC:Events for ČMSZP
BEGIN:VTIMEZONE
TZID:Europe/Prague
BEGIN:DAYLIGHT
TZOFFSETFROM:+0100
TZOFFSETTO:+0200
TZNAME:CEST
DTSTART:20220327T010000
END:DAYLIGHT
BEGIN:STANDARD
TZOFFSETFROM:+0200
TZOFFSETTO:+0100
TZNAME:CET
DTSTART:20221030T010000
END:STANDARD
END:VTIMEZONE
BEGIN:VEVENT
DTSTART;TZID=Europe/Prague:20221201T080000
DTEND;TZID=Europe/Prague:20221201T170000
DTSTAMP:20260426T001046
CREATED:20221201T115627Z
LAST-MODIFIED:20221201T115627Z
UID:8238-1669881600-1669914000@cmszp.cz
SUMMARY:2. jednání Pracovní skupiny „Eroze v DZES od roku 2024“ - KS\,ŠR
DESCRIPTION:\n\n\n13. prosince 2022 od 15 hod. (místnost 101) 2. jednání Pracovní skupiny „Eroze v DZES od roku 2024“. \n\n\n\n
URL:https://cmszp.cz/akce/2-jednani-pracovni-skupiny-eroze-v-dzes-od-roku-2024-kssr/
LOCATION:MZe\, Těšnov 65/17\, Praha 1\, 110 00\, Česká republika
END:VEVENT
END:VCALENDAR