BEGIN:VCALENDAR
VERSION:2.0
PRODID:-//ČMSZP - ECPv4.9.14.1//NONSGML v1.0//EN
CALSCALE:GREGORIAN
METHOD:PUBLISH
X-WR-CALNAME:ČMSZP
X-ORIGINAL-URL:https://cmszp.cz
X-WR-CALDESC:Events for ČMSZP
BEGIN:VTIMEZONE
TZID:Europe/Prague
BEGIN:DAYLIGHT
TZOFFSETFROM:+0100
TZOFFSETTO:+0200
TZNAME:CEST
DTSTART:20230326T010000
END:DAYLIGHT
BEGIN:STANDARD
TZOFFSETFROM:+0200
TZOFFSETTO:+0100
TZNAME:CET
DTSTART:20231029T010000
END:STANDARD
END:VTIMEZONE
BEGIN:VEVENT
DTSTART;TZID=Europe/Prague:20230330T100000
DTEND;TZID=Europe/Prague:20230330T130000
DTSTAMP:20260425T163452
CREATED:20230207T131422Z
LAST-MODIFIED:20230207T131551Z
UID:8541-1680170400-1680181200@cmszp.cz
SUMMARY:2. jednání Monitorovacího výboru SP SZP 2023–2027 - FW\, KM
DESCRIPTION:2. jednání Monitorovacího výboru SP SZP 2023–2027 proběhne dne 30. 3. 2022 od 10:00 v budově Ministerstva zemědělství\, Těšnov 65/17\, 11000 Praha 1. Předpokládaný konec jednání je ve 13 hodin. \n
URL:https://cmszp.cz/akce/2-jednani-monitorovaciho-vyboru-sp-szp-2023-2027-fw-km/
END:VEVENT
END:VCALENDAR