BEGIN:VCALENDAR
VERSION:2.0
PRODID:-//ČMSZP - ECPv4.9.14.1//NONSGML v1.0//EN
CALSCALE:GREGORIAN
METHOD:PUBLISH
X-WR-CALNAME:ČMSZP
X-ORIGINAL-URL:https://cmszp.cz
X-WR-CALDESC:Events for ČMSZP
BEGIN:VTIMEZONE
TZID:Europe/Prague
BEGIN:DAYLIGHT
TZOFFSETFROM:+0100
TZOFFSETTO:+0200
TZNAME:CEST
DTSTART:20250330T010000
END:DAYLIGHT
BEGIN:STANDARD
TZOFFSETFROM:+0200
TZOFFSETTO:+0100
TZNAME:CET
DTSTART:20251026T010000
END:STANDARD
END:VTIMEZONE
BEGIN:VEVENT
DTSTART;TZID=Europe/Prague:20250313T080000
DTEND;TZID=Europe/Prague:20250313T170000
DTSTAMP:20260422T064949
CREATED:20250206T122523Z
LAST-MODIFIED:20250206T122632Z
UID:12624-1741852800-1741885200@cmszp.cz
SUMMARY:11. odborná konference Agentury ochrany přírody a krajiny ČR
DESCRIPTION:Konference opět proběhne jak prezenčně\, tak s možností online připojení. \n  \n„K vybraným otázkám praktické ochrany přírody“\, a to na téma „Zelená infrastruktura“. Účast na konferenci je pro všechny účastníky bezplatná\, v případě zájmu prosím vyplňte registrační přihlašovací formulář na https://aopk.gov.cz/-/konference-k-vybranym-otazkam-prakticke-ochrany-prirody-2025 a to do 1. 3. 2025\, nebo do naplnění kapacity. \n  \n
URL:https://cmszp.cz/akce/11-odborna-konference-agentury-ochrany-prirody-a-krajiny-cr/
ORGANIZER;CN="M%C5%BDP":MAILTO:Dagmar.Zikova@mzp.cz
END:VEVENT
END:VCALENDAR